BEGIN:VCALENDAR
VERSION:2.0
PRODID:-//wp-events-plugin.com//7.2.3.1//EN
TZID:Europe/London
X-WR-TIMEZONE:Europe/London
BEGIN:VEVENT
UID:22@drawninyorkshire.com
DTSTART;TZID=Europe/London:20260609T100000
DTEND;TZID=Europe/London:20260610T160000
DTSTAMP:20251114T182220Z
URL:https://drawninyorkshire.com/events/workshops-at-hare-hill-barn-cartme
 l-fell-in-cumbria-two-separate-days/
SUMMARY:Workshops at Hare Hill Barn\, Cartmel Fell in Cumbria: two separate
  days
DESCRIPTION:&nbsp\;\nI'm delighted to be returning to this amazing venue in
  southern Lakeland to run two days of workshops in the summer.\nBUILDINGS 
 IN THE LANDSCAPE IN PEN AND WASH\n\n\n\n\nCourse Date:  Tuesday\, 22nd Ju
 ly or  Wednesday\, 23rd July 2025\nTime of Course:  10am to 4pm\n\nHere 
 is an opportunity to try your hand at ‘Pen and Wash’ – the creation 
 of a drawing which is then tinted with watercolour.  We are pleased to we
 lcome Yorkshire artist John Harrison back again to Hare Hill Barn to teach
  his method.\n\nJohn will start the day with a brief overview of his parti
 cular style of line and wash\, and the importance he places on drawing and
  sketching.  This will be followed by a group project where you will all 
 be working from the same reference photograph (which will be provided) uti
 lising the techniques described by John\, who will offer advice\, hints an
 d tips throughout the day.\n\nDepending on the speed at which you are happ
 iest working\, there will be an opportunity to start (or even complete) a 
 second piece\, again choosing from a further selection of reference photos
  supplied by John.  At the end of the workshop there will be a short info
 rmal assessment and review session.  Participation in this is completely 
 voluntary as John is aware that not everyone is comfortable doing this.\n\
 nJohn’s favoured subject matter features built structures in the wider l
 andscape\, exploring the contrast between the man-made and the natural.  
 Largely self-taught he does not consider himself a painter\, but uses the 
 unpredictable yet exciting medium of watercolour to highlight his drawings
 .  He runs many workshops and classes\, and his work is in many private c
 ollections.  He also undertakes commissions and recently appeared in the 
 Channel 5 revival of Watercolour Challenge.\n\nThis workshop is most suita
 ble for those with some experience of Pen &amp\; Wash\, even if only for a
  few hours.  However\, John is comfortable with complete beginners joinin
 g too.\n\nAll necessary reference materials will be provided.  You will n
 eed to bring your usual painting equipment:\n\nIf we are fully booked plea
 se get in touch to be put on a waiting list or find out about further date
 s available.\n\n\nBook here by clicking this link:\n\n&nbsp\;\n\nhttps://w
 ww.harehillbarn.co.uk/course/pen-and-wash-workshop/
ATTACH;FMTTYPE=image/jpeg:https://drawninyorkshire.com/wp-content/uploads/
 2024/06/The-village-of-Thorpe-in-Wharfedale.jpg
END:VEVENT
BEGIN:VTIMEZONE
TZID:Europe/London
X-LIC-LOCATION:Europe/London
BEGIN:DAYLIGHT
DTSTART:20260329T020000
TZOFFSETFROM:+0000
TZOFFSETTO:+0100
TZNAME:BST
END:DAYLIGHT
END:VTIMEZONE
END:VCALENDAR