BEGIN:VCALENDAR
VERSION:2.0
PRODID:-//wp-events-plugin.com//7.2.3.1//EN
TZID:Europe/London
X-WR-TIMEZONE:Europe/London
BEGIN:VEVENT
UID:18@drawninyorkshire.com
DTSTART;TZID=Europe/London:20260501T103000
DTEND;TZID=Europe/London:20260501T163000
DTSTAMP:20251114T175743Z
URL:https://drawninyorkshire.com/events/just-makers-ripley-castle-2/
SUMMARY:Just Makers\, Ripley Castle
DESCRIPTION:Winter scene line & Wash Workshop\n\nJohn Harrison of ""Drawn i
 n Yorkshire" would be introducing you to line and wash techniques for sket
 ching and painting.\n\nThe day will start with an introduction to John and
  his style of line and wash. If the weather permits you will venture outsi
 de to find subjects for observational drawing\, taking reference photos at
  the same time.
ATTACH;FMTTYPE=image/jpeg:https://drawninyorkshire.com/wp-content/uploads/
 2024/06/Sun-and-shadows-in-the-Pennines.jpg
LOCATION:Just Makers\, Castle Courtyard\, Ripley\, HG3 3AY\, United Kingdom
X-APPLE-STRUCTURED-LOCATION;VALUE=URI;X-ADDRESS=Castle Courtyard\, Ripley\,
  HG3 3AY\, United Kingdom;X-APPLE-RADIUS=100;X-TITLE=Just Makers:geo:0,0
END:VEVENT
BEGIN:VTIMEZONE
TZID:Europe/London
X-LIC-LOCATION:Europe/London
BEGIN:DAYLIGHT
DTSTART:20260329T020000
TZOFFSETFROM:+0000
TZOFFSETTO:+0100
TZNAME:BST
END:DAYLIGHT
END:VTIMEZONE
END:VCALENDAR